BEGIN:VCALENDAR
VERSION:2.0
PRODID:-//Musikschule Weststeiermark - ECPv6.15.17.1//NONSGML v1.0//EN
CALSCALE:GREGORIAN
METHOD:PUBLISH
X-ORIGINAL-URL:https://musikschule-weststeiermark.at
X-WR-CALDESC:Veranstaltungen für Musikschule Weststeiermark
REFRESH-INTERVAL;VALUE=DURATION:PT1H
X-Robots-Tag:noindex
X-PUBLISHED-TTL:PT1H
BEGIN:VTIMEZONE
TZID:UTC
BEGIN:STANDARD
TZOFFSETFROM:+0000
TZOFFSETTO:+0000
TZNAME:UTC
DTSTART:20240101T000000
END:STANDARD
END:VTIMEZONE
BEGIN:VEVENT
DTSTART;TZID=UTC:20260418T190000
DTEND;TZID=UTC:20260418T203000
DTSTAMP:20260421T130633
CREATED:20251220T135407Z
LAST-MODIFIED:20260414T185829Z
UID:23364625-1776538800-1776544200@musikschule-weststeiermark.at
SUMMARY:JBO Konzert in Thal (Jugendblasorchester)
DESCRIPTION:
URL:https://musikschule-weststeiermark.at/event/jbo-konzert-in-thal-jugendblasorchester/
LOCATION:Steiermark
CATEGORIES:Auftrittspraktika (AP),Konzert (AP),Konzert / Musikrezeption
END:VEVENT
BEGIN:VEVENT
DTSTART;TZID=UTC:20260417T180000
DTEND;TZID=UTC:20260417T200000
DTSTAMP:20260421T130633
CREATED:20260324T092012Z
LAST-MODIFIED:20260324T092012Z
UID:23364751-1776448800-1776456000@musikschule-weststeiermark.at
SUMMARY:Volksmusikkonzert "Steirisch aufgspielt"
DESCRIPTION:
URL:https://musikschule-weststeiermark.at/event/volksmusikkonzert-steirisch-aufgspielt/
LOCATION:Buschenschank Dorner\, Reiteregg 44\, St. Bartholomä\, Steiermark\, 8151\, Austria
CATEGORIES:Auftrittspraktika (AP),Konzert (AP),Konzert / Musikrezeption
ATTACH;FMTTYPE=image/jpeg:https://musikschule-weststeiermark.at/wp-content/uploads/2026/03/Plakat_Werbung.jpg
END:VEVENT
BEGIN:VEVENT
DTSTART;VALUE=DATE:20260328
DTEND;VALUE=DATE:20260407
DTSTAMP:20260421T130633
CREATED:20251220T140300Z
LAST-MODIFIED:20251220T140300Z
UID:23364644-1774656000-1775519999@musikschule-weststeiermark.at
SUMMARY:Osterferien
DESCRIPTION:
URL:https://musikschule-weststeiermark.at/event/osterferien/
LOCATION:Steiermark
CATEGORIES:Schulferien,Schulfrei - Schulferien
END:VEVENT
BEGIN:VEVENT
DTSTART;TZID=UTC:20260327T080000
DTEND;TZID=UTC:20260327T170000
DTSTAMP:20260421T130633
CREATED:20251220T135226Z
LAST-MODIFIED:20251220T135226Z
UID:23364623-1774598400-1774630800@musikschule-weststeiermark.at
SUMMARY:Übertrittsprüfungen Tag 2
DESCRIPTION:
URL:https://musikschule-weststeiermark.at/event/uebertrittspruefungen-tag-2/
LOCATION:Steiermark
CATEGORIES:Konferenz / Organisation
END:VEVENT
BEGIN:VEVENT
DTSTART;TZID=UTC:20260326T080000
DTEND;TZID=UTC:20260326T170000
DTSTAMP:20260421T130633
CREATED:20251220T135148Z
LAST-MODIFIED:20251220T140644Z
UID:23364621-1774512000-1774544400@musikschule-weststeiermark.at
SUMMARY:Übertrittsprüfungen Tag 1
DESCRIPTION:
URL:https://musikschule-weststeiermark.at/event/uebertrittspruefungen-tag-1/
LOCATION:Steiermark
CATEGORIES:Konferenz / Organisation
END:VEVENT
BEGIN:VEVENT
DTSTART;VALUE=DATE:20260319
DTEND;VALUE=DATE:20260320
DTSTAMP:20260421T130633
CREATED:20251220T140214Z
LAST-MODIFIED:20251220T140214Z
UID:23364642-1773878400-1773964799@musikschule-weststeiermark.at
SUMMARY:Landesfeiertag
DESCRIPTION:
URL:https://musikschule-weststeiermark.at/event/landesfeiertag/
LOCATION:Steiermark
CATEGORIES:Gesetzlicher Feiertag,Schulfrei - Schulferien
END:VEVENT
BEGIN:VEVENT
DTSTART;TZID=UTC:20260306T180000
DTEND;TZID=UTC:20260306T200000
DTSTAMP:20260421T130633
CREATED:20251220T135103Z
LAST-MODIFIED:20251220T182232Z
UID:23364619-1772820000-1772827200@musikschule-weststeiermark.at
SUMMARY:Konzert der Streich und Zupfinstrumente
DESCRIPTION:
URL:https://musikschule-weststeiermark.at/event/konzert-der-streich-und-zupfinstrumente/
LOCATION:Schulzentrum Hitzendorf\, Medienraum\, Hitzendorf 4\, Hitzendorf\, Steiermark\, 8151\, Austria
CATEGORIES:Auftrittspraktika (AP),Konzert / Musikrezeption,Vorspielabend / Klassenabend
END:VEVENT
BEGIN:VEVENT
DTSTART;TZID=UTC:20260227T080000
DTEND;TZID=UTC:20260227T170000
DTSTAMP:20260421T130633
CREATED:20251220T134918Z
LAST-MODIFIED:20251220T134918Z
UID:23364617-1772179200-1772211600@musikschule-weststeiermark.at
SUMMARY:Musiktheorie Prüfungen
DESCRIPTION:
URL:https://musikschule-weststeiermark.at/event/musiktheorie-pruefungen/
LOCATION:Steiermark
CATEGORIES:Konferenz / Organisation
END:VEVENT
BEGIN:VEVENT
DTSTART;VALUE=DATE:20260216
DTEND;VALUE=DATE:20260222
DTSTAMP:20260421T130633
CREATED:20251220T140128Z
LAST-MODIFIED:20251220T140128Z
UID:23364640-1771200000-1771718399@musikschule-weststeiermark.at
SUMMARY:Semesterferien
DESCRIPTION:
URL:https://musikschule-weststeiermark.at/event/semesterferien/
LOCATION:Steiermark
CATEGORIES:Schulferien,Schulfrei - Schulferien
END:VEVENT
BEGIN:VEVENT
DTSTART;TZID=UTC:20260213T183000
DTEND;TZID=UTC:20260213T200000
DTSTAMP:20260421T130633
CREATED:20251220T182647Z
LAST-MODIFIED:20251220T182647Z
UID:23364653-1771007400-1771012800@musikschule-weststeiermark.at
SUMMARY:Semesterkonferenz
DESCRIPTION:
URL:https://musikschule-weststeiermark.at/event/semesterkonferenz/
LOCATION:Schulzentrum Hitzendorf\, Medienraum\, Hitzendorf 4\, Hitzendorf\, Steiermark\, 8151\, Austria
CATEGORIES:Konferenz / Organisation
END:VEVENT
BEGIN:VEVENT
DTSTART;TZID=UTC:20260211T180000
DTEND;TZID=UTC:20260211T200000
DTSTAMP:20260421T130633
CREATED:20251220T115606Z
LAST-MODIFIED:20260119T200347Z
UID:23364613-1770832800-1770840000@musikschule-weststeiermark.at
SUMMARY:Konzert der Blechbläser und Schlagwerker
DESCRIPTION:
URL:https://musikschule-weststeiermark.at/event/konzert-der-blechblaeser-und-schlagwerker/
LOCATION:Schulzentrum Hitzendorf\, Medienraum\, Hitzendorf 4\, Hitzendorf\, Steiermark\, 8151\, Austria
CATEGORIES:Auftrittspraktika (AP),Konzert / Musikrezeption,Vorspielabend / Klassenabend
ATTACH;FMTTYPE=image/jpeg:https://musikschule-weststeiermark.at/wp-content/uploads/2025/12/Blech-und-Schlagwerker.jpg
END:VEVENT
BEGIN:VEVENT
DTSTART;TZID=UTC:20260206T180000
DTEND;TZID=UTC:20260206T200000
DTSTAMP:20260421T130633
CREATED:20251220T115220Z
LAST-MODIFIED:20260116T202531Z
UID:23364610-1770400800-1770408000@musikschule-weststeiermark.at
SUMMARY:Konzert der Holzbläser
DESCRIPTION:
URL:https://musikschule-weststeiermark.at/event/konzert-der-holzblaeser/
LOCATION:Schulzentrum Hitzendorf\, Medienraum\, Hitzendorf 4\, Hitzendorf\, Steiermark\, 8151\, Austria
CATEGORIES:Auftrittspraktika (AP),Konzert / Musikrezeption,Vorspielabend / Klassenabend
ATTACH;FMTTYPE=image/jpeg:https://musikschule-weststeiermark.at/wp-content/uploads/2025/12/Holzblaeser-1.jpg
END:VEVENT
BEGIN:VEVENT
DTSTART;VALUE=DATE:20251224
DTEND;VALUE=DATE:20260107
DTSTAMP:20260421T130633
CREATED:20251220T140045Z
LAST-MODIFIED:20251220T140045Z
UID:23364638-1766534400-1767743999@musikschule-weststeiermark.at
SUMMARY:Weihnachtsferien
DESCRIPTION:
URL:https://musikschule-weststeiermark.at/event/weihnachtsferien/
LOCATION:Steiermark
CATEGORIES:Schulferien,Schulfrei - Schulferien
END:VEVENT
END:VCALENDAR